BEGIN:VCALENDAR
VERSION:2.0
PRODID:-//Family Christian Church - ECPv6.15.20//NONSGML v1.0//EN
CALSCALE:GREGORIAN
METHOD:PUBLISH
X-WR-CALNAME:Family Christian Church
X-ORIGINAL-URL:https://myfccboston.org
X-WR-CALDESC:Events for Family Christian Church
REFRESH-INTERVAL;VALUE=DURATION:PT1H
X-Robots-Tag:noindex
X-PUBLISHED-TTL:PT1H
BEGIN:VTIMEZONE
TZID:America/New_York
BEGIN:DAYLIGHT
TZOFFSETFROM:-0500
TZOFFSETTO:-0400
TZNAME:EDT
DTSTART:20210314T070000
END:DAYLIGHT
BEGIN:STANDARD
TZOFFSETFROM:-0400
TZOFFSETTO:-0500
TZNAME:EST
DTSTART:20211107T060000
END:STANDARD
BEGIN:DAYLIGHT
TZOFFSETFROM:-0500
TZOFFSETTO:-0400
TZNAME:EDT
DTSTART:20220313T070000
END:DAYLIGHT
BEGIN:STANDARD
TZOFFSETFROM:-0400
TZOFFSETTO:-0500
TZNAME:EST
DTSTART:20221106T060000
END:STANDARD
BEGIN:DAYLIGHT
TZOFFSETFROM:-0500
TZOFFSETTO:-0400
TZNAME:EDT
DTSTART:20230312T070000
END:DAYLIGHT
BEGIN:STANDARD
TZOFFSETFROM:-0400
TZOFFSETTO:-0500
TZNAME:EST
DTSTART:20231105T060000
END:STANDARD
BEGIN:DAYLIGHT
TZOFFSETFROM:-0500
TZOFFSETTO:-0400
TZNAME:EDT
DTSTART:20240310T070000
END:DAYLIGHT
BEGIN:STANDARD
TZOFFSETFROM:-0400
TZOFFSETTO:-0500
TZNAME:EST
DTSTART:20241103T060000
END:STANDARD
BEGIN:DAYLIGHT
TZOFFSETFROM:-0500
TZOFFSETTO:-0400
TZNAME:EDT
DTSTART:20250309T070000
END:DAYLIGHT
BEGIN:STANDARD
TZOFFSETFROM:-0400
TZOFFSETTO:-0500
TZNAME:EST
DTSTART:20251102T060000
END:STANDARD
END:VTIMEZONE
BEGIN:VEVENT
DTSTART;TZID=America/New_York:20240616T110000
DTEND;TZID=America/New_York:20240616T170000
DTSTAMP:20260421T095817
CREATED:20240528T161556Z
LAST-MODIFIED:20240529T232719Z
UID:1734-1718535600-1718557200@myfccboston.org
SUMMARY:FCC Father's Day
DESCRIPTION:Celebrating Father’s Day \nJeans and white tops for Men. Jean skirt or jean dress for Women.
URL:https://myfccboston.org/event/fcc-fathers-day/
LOCATION:Arlington St\, 126 Arlington St\, Hyde Park\, MA\, 02136\, United States
CATEGORIES:Outreach
ATTACH;FMTTYPE=image/jpeg:https://myfccboston.org/wp-content/uploads/2024/06/Fathers-Day-2024-Flyer.jpg
ORGANIZER;CN="Family Christian Church":MAILTO:hello@myfccboston.org
END:VEVENT
BEGIN:VEVENT
DTSTART;TZID=America/New_York:20240309T193000
DTEND;TZID=America/New_York:20240309T230000
DTSTAMP:20260421T095817
CREATED:20240307T161509Z
LAST-MODIFIED:20240307T161805Z
UID:1725-1710012600-1710025200@myfccboston.org
SUMMARY:FCC Fundraising Anniversary GALA
DESCRIPTION:Come celebrate 16 years of FCC at our Gala!
URL:https://myfccboston.org/event/fcc-fundraising-anniversary-gala/
LOCATION:New Jerusalem Evangelical Baptist Church\, 871 N Main St\, Randolph\, MA\, 02368\, United States
CATEGORIES:Community
ATTACH;FMTTYPE=image/jpeg:https://myfccboston.org/wp-content/uploads/2024/03/IMG_0196.jpg
ORGANIZER;CN="Family Christian Church":MAILTO:hello@myfccboston.org
END:VEVENT
BEGIN:VEVENT
DTSTART;TZID=America/New_York:20240306T193000
DTEND;TZID=America/New_York:20240310T170000
DTSTAMP:20260421T095817
CREATED:20240307T161340Z
LAST-MODIFIED:20240307T161822Z
UID:1718-1709753400-1710090000@myfccboston.org
SUMMARY:FCC 16th Year Ministry Anniversary
DESCRIPTION:Come celebrate 16 years of FCC!
URL:https://myfccboston.org/event/fcc-16th-year-ministry-anniversary/
LOCATION:Arlington St\, 126 Arlington St\, Hyde Park\, MA\, 02136\, United States
CATEGORIES:Community
ATTACH;FMTTYPE=image/jpeg:https://myfccboston.org/wp-content/uploads/2024/03/IMG_3448.jpg
ORGANIZER;CN="Family Christian Church":MAILTO:hello@myfccboston.org
END:VEVENT
BEGIN:VEVENT
DTSTART;TZID=America/New_York:20230722T110000
DTEND;TZID=America/New_York:20230722T160000
DTSTAMP:20260421T095817
CREATED:20230615T142612Z
LAST-MODIFIED:20230615T142612Z
UID:1711-1690023600-1690041600@myfccboston.org
SUMMARY:Community Fun Day - Summer 2023
DESCRIPTION:Come meet your neighbors and make some new connections.
URL:https://myfccboston.org/event/community-fun-day-summer-2023/
LOCATION:Arlington St\, 126 Arlington St\, Hyde Park\, MA\, 02136\, United States
CATEGORIES:Community
ATTACH;FMTTYPE=image/jpeg:https://myfccboston.org/wp-content/uploads/2023/06/IMG_0708.jpeg
ORGANIZER;CN="Family Christian Church":MAILTO:hello@myfccboston.org
END:VEVENT
BEGIN:VEVENT
DTSTART;VALUE=DATE:20230717
DTEND;VALUE=DATE:20230723
DTSTAMP:20260421T095817
CREATED:20230615T142023Z
LAST-MODIFIED:20230615T142639Z
UID:1707-1689552000-1690070399@myfccboston.org
SUMMARY:Vacation Bible Camp
DESCRIPTION:Strive\, Bring Peace\, and Build Each Other Up
URL:https://myfccboston.org/event/vacation-bible-camp/
LOCATION:Arlington St\, 126 Arlington St\, Hyde Park\, MA\, 02136\, United States
CATEGORIES:Community
ATTACH;FMTTYPE=image/png:https://myfccboston.org/wp-content/uploads/2023/06/IMG_0707.png
ORGANIZER;CN="Family Christian Church":MAILTO:hello@myfccboston.org
END:VEVENT
BEGIN:VEVENT
DTSTART;TZID=America/New_York:20230409T111500
DTEND;TZID=America/New_York:20230409T133000
DTSTAMP:20260421T095817
CREATED:20230304T193046Z
LAST-MODIFIED:20230325T150607Z
UID:1644-1681038900-1681047000@myfccboston.org
SUMMARY:Resurrection Sunday Service
DESCRIPTION:Join us on Easter this Resurrection Sunday at 11:15AM ET for Sunday Service. \n  \nJoin us: \n\nIn Person: 126 Arlington St\, Hyde Park\, MA 02136 Join Here\nZoom:  ID: 87534337303;  \nConference Line: (435)777-2200 code: 02136#
URL:https://myfccboston.org/event/eastersunday-service/
LOCATION:Arlington St\, 126 Arlington St\, Hyde Park\, MA\, 02136\, United States
CATEGORIES:Community
ATTACH;FMTTYPE=image/webp:https://myfccboston.org/wp-content/uploads/2023/03/Easter-2023-1.webp
ORGANIZER;CN="Family Christian Church":MAILTO:hello@myfccboston.org
END:VEVENT
BEGIN:VEVENT
DTSTART;TZID=America/New_York:20230312T111500
DTEND;TZID=America/New_York:20230312T133000
DTSTAMP:20260421T095817
CREATED:20230304T193200Z
LAST-MODIFIED:20230304T194731Z
UID:1647-1678619700-1678627800@myfccboston.org
SUMMARY:Sunday Service
DESCRIPTION:Join us every Sunday at 11:15AM ET for Sunday Service. \n  \nJoin us: \n\nIn Person: 126 Arlington St\, Hyde Park\, MA 02136 Join Here\nZoom:  ID: 87534337303;  \nConference Line: (435)777-2200 code: 02136#
URL:https://myfccboston.org/event/sunday-service-3/
LOCATION:Arlington St\, 126 Arlington St\, Hyde Park\, MA\, 02136\, United States
CATEGORIES:Community
ATTACH;FMTTYPE=image/jpeg:https://myfccboston.org/wp-content/uploads/2023/03/3D-Mockup-1-1_resized.jpg
ORGANIZER;CN="Family Christian Church":MAILTO:hello@myfccboston.org
END:VEVENT
BEGIN:VEVENT
DTSTART;TZID=America/New_York:20230310T110000
DTEND;TZID=America/New_York:20230312T170000
DTSTAMP:20260421T095817
CREATED:20230304T181659Z
LAST-MODIFIED:20230304T182037Z
UID:1626-1678446000-1678640400@myfccboston.org
SUMMARY:FCC 15th Year Ministry Anniversary
DESCRIPTION:Come celebrate 15 years of FCC!
URL:https://myfccboston.org/event/15-anniversary/
LOCATION:Arlington St\, 126 Arlington St\, Hyde Park\, MA\, 02136\, United States
CATEGORIES:Community
ATTACH;FMTTYPE=image/jpeg:https://myfccboston.org/wp-content/uploads/2023/03/fccannipic.jpg
ORGANIZER;CN="Family Christian Church":MAILTO:hello@myfccboston.org
END:VEVENT
BEGIN:VEVENT
DTSTART;TZID=America/New_York:20230305T111500
DTEND;TZID=America/New_York:20230305T133000
DTSTAMP:20260421T095817
CREATED:20230304T182319Z
LAST-MODIFIED:20230304T194826Z
UID:1633-1678014900-1678023000@myfccboston.org
SUMMARY:Sunday Service
DESCRIPTION:Join us every Sunday at 11:15AM ET for Sunday Service. \n  \nJoin us: \n\nIn Person: 126 Arlington St\, Hyde Park\, MA 02136 Join Here\nZoom:  ID: 87534337303;  \nConference Line: (435)777-2200 code: 02136#
URL:https://myfccboston.org/event/sunday-service-2/
LOCATION:Arlington St\, 126 Arlington St\, Hyde Park\, MA\, 02136\, United States
CATEGORIES:Community
ATTACH;FMTTYPE=image/jpeg:https://myfccboston.org/wp-content/uploads/2023/03/3D-Mockup-1-1_resized-1.jpg
ORGANIZER;CN="Family Christian Church":MAILTO:hello@myfccboston.org
END:VEVENT
BEGIN:VEVENT
DTSTART;TZID=America/New_York:20220731T111500
DTEND;TZID=America/New_York:20220731T133000
DTSTAMP:20260421T095817
CREATED:20150916T213923Z
LAST-MODIFIED:20220730T024108Z
UID:432-1659266100-1659274200@myfccboston.org
SUMMARY:Sunday Service
DESCRIPTION:Join us every Sunday at 11:15AM ET for Sunday Service. \n  \nJoin us: \n\nIn Person: 126 Arlington St\, Hyde Park\, MA 02136\nZoom:  ID: 87534337303;  \nConference Line: (435)777-2200 code: 02136#
URL:https://myfccboston.org/event/sunday-service/
LOCATION:Arlington St\, 126 Arlington St\, Hyde Park\, MA\, 02136\, United States
CATEGORIES:Community
ATTACH;FMTTYPE=image/jpeg:https://myfccboston.org/wp-content/uploads/2015/09/event_2-compressor.jpg
ORGANIZER;CN="Family Christian Church":MAILTO:hello@myfccboston.org
END:VEVENT
BEGIN:VEVENT
DTSTART;TZID=America/New_York:20220730T110000
DTEND;TZID=America/New_York:20220730T170000
DTSTAMP:20260421T095817
CREATED:20150803T231442Z
LAST-MODIFIED:20220730T023834Z
UID:279-1659178800-1659200400@myfccboston.org
SUMMARY:Community Fun Day
DESCRIPTION:Come meet your neighbors and make some new connections.
URL:https://myfccboston.org/event/community-fun-day/
LOCATION:Arlington St\, 126 Arlington St\, Hyde Park\, MA\, 02136\, United States
CATEGORIES:Community
ATTACH;FMTTYPE=image/jpeg:https://myfccboston.org/wp-content/uploads/2015/08/IMG_1672.jpeg
ORGANIZER;CN="Family Christian Church":MAILTO:hello@myfccboston.org
END:VEVENT
END:VCALENDAR